{"text_format":"1","workbook":"xlsx","n_sheets":11,"sheets":["стр.1","стр.2 ","Таблица 1","Таблица 2","Таблица 2.1","Таблица 2.2","Таблица 3","Таблица 4","расчеты мун.задание","расчеты иные субсидии","расчеты предпринималка"],"not_rendered":{"charts":0,"images":0,"macros":0,"external_links":0,"defined_names":0,"comments":0,"pivot_tables":0},"unopened":[],"bounds":{"document_bytes":16777216,"sheet_cells":100000,"rows_first":2000,"rows_last":500,"rows_between":2000,"halvings":0,"cell_chars":16384,"cell_head_chars":4096},"cells_cut":0,"cells_raw":0,"read":"whole","date_system":"1900"}

{"sheet":"стр.1","index":0,"n_rows":41,"n_cols":96,"rows_kept":41,"cut":false,"hidden":false,"merged":[[36,26,40,82],[36,138,40,145],[28,22,28,70],[28,83,28,104],[28,134,28,145],[29,83,29,104],[31,26,34,82],[31,138,34,145],[20,144,20,145],[21,83,21,104],[22,83,22,104],[23,22,26,69],[23,83,23,104],[23,134,26,145],[24,83,24,104],[25,83,27,104],[20,25,20,28],[20,32,20,49],[20,50,20,53],[20,54,20,57],[20,83,20,104],[20,137,20,140],[15,0,15,104],[15,112,15,145],[16,27,16,67],[18,83,18,104],[19,71,19,81],[19,83,19,104],[5,56,5,75],[5,76,5,104],[5,112,5,131],[5,132,5,145],[6,65,6,68],[6,72,6,86],[6,87,6,90],[6,91,6,94],[6,121,6,124],[6,128,6,145],[2,56,2,104],[2,112,2,145],[3,56,3,104],[3,112,3,145],[4,76,4,104],[4,132,4,145]]}
[]
[]
[null,null,null,null,null,null,null,null,null,null,null,null,null,null,null,null,null,null,null,null,null,null,null,null,null,null,null,null,null,null,null,null,null,null,null,null,null,null,null,null,null,null,null,null,null,null,null,null,null,null,null,null,null,null,null,null,"\"УТВЕРЖДАЮ\""]
[null,null,null,null,null,null,null,null,null,null,null,null,null,null,null,null,null,null,null,null,null,null,null,null,null,null,null,null,null,null,null,null,null,null,null,null,null,null,null,null,null,null,null,null,null,null,null,null,null,null,null,null,null,null,null,null,"Заведующий муниципальным бюджетным дошкольным образовательным учреждением детским садом \"Улыбка\" с. Александров-Гай, Александрово-Гайский район, Саратовской области"]
[null,null,null,null,null,null,null,null,null,null,null,null,null,null,null,null,null,null,null,null,null,null,null,null,null,null,null,null,null,null,null,null,null,null,null,null,null,null,null,null,null,null,null,null,null,null,null,null,null,null,null,null,null,null,null,null,null,null,null,null,null,null,null,null,null,null,null,null,null,null,null,null,null,null,null,null,"Т.В. Леонова"]
[null,null,null,null,null,null,null,null,null,null,null,null,null,null,null,null,null,null,null,null,null,null,null,null,null,null,null,null,null,null,null,null,null,null,null,null,null,null,null,null,null,null,null,null,null,null,null,null,null,null,null,null,null,null,null,null,"(подпись)",null,null,null,null,null,null,null,null,null,null,null,null,null,null,null,null,null,null,null,"(расшифровка подписи)"]
[null,null,null,null,null,null,null,null,null,null,null,null,null,null,null,null,null,null,null,null,null,null,null,null,null,null,null,null,null,null,null,null,null,null,null,null,null,null,null,null,null,null,null,null,null,null,null,null,null,null,null,null,null,null,null,null,null,null,null,null,null,null,null,null,"\"","31",null,null,null,"\"",null,null,"декабря",null,null,null,null,null,null,null,null,null,null,null,null,null,null,20,null,null,null,"19",null,null,null," г."]
[]
[]
[]
[]
[]
[]
[]
[]
["План финансово-хозяйственной деятельности"]
[null,null,null,null,null,null,null,null,null,null,null,null,null,null,null,null,null,null,null,null,null,null,null,null,null,null,null,"на 01  января  2020 г."]
[]
[]
[null,null,null,null,null,null,null,null,null,null,null,null,null,null,null,null,null,null,null,null,null,null,null,null,null,null,null,null,null,null,null,null,null,null,null,null,null,null,null,null,null,null,null,null,null,null,null,null,null,null,null,null,null,null,null,null,null,null,null,null,null,null,null,null,null,null,null,null,null,null,null,"Форма по КФД"]
[null,null,null,null,null,null,null,null,null,null,null,null,null,null,null,null,null,null,null,null,null,null,null,null,"\"","31",null,null,null,"\"",null,null,"декабря",null,null,null,null,null,null,null,null,null,null,null,null,null,null,null,null,null,20,null,null,null,"19",null,null,null," г.",null,null,null,null,null,null,null,null,null,null,null,null,"Дата",null,null,null,null,null,null,null,null,null,null,null,"31.12.2019"]
[]
[]
["Наименование ",null,null,null,null,null,null,null,null,null,null,null,null,null,null,null,null,null,null,null,null,null,"Муниципальное бюджетное дошкольное образовательное учреждение детский сад \"Улыбка\" с. Александров-Гай, Александрово-Гайский район, Саратовской области",null,null,null,null,null,null,null,null,null,null,null,null,null,null,null,null,null,null,null,null,null,null,null,null,null,null,null,null,null,null,null,null,null,null,null,null,null,null,null,null,null,null,null,null,null,null,null,null,"по ОКПО",null,null,null,null,null,null,null,null,null,null,null,"59392018"]
["муниципального"]
["учреждения"]
["(подразделения)"]
[]
["ИНН/КПП",null,null,null,null,null,null,null,null,null,null,null,null,null,null,null,null,null,null,null,null,null,"6401003264/640101001"]
["Единица измерения: руб.",null,null,null,null,null,null,null,null,null,null,null,null,null,null,null,null,null,null,null,null,null,null,null,null,null,null,null,null,null,null,null,null,null,null,null,null,null,null,null,null,null,null,null,null,null,null,null,null,null,null,null,null,null,null,null,null,null,null,null,null,null,null,null,null,null,null,null,null,null,null,"по ОКЕИ",null,null,null,null,null,null,null,null,null,null,null,"383"]
[]
["Наименование органа, ",null,null,null,null,null,null,null,null,null,null,null,null,null,null,null,null,null,null,null,null,null,null,null,null,null," Администрации Александрово-Гайского муниципального района Саратовской области"]
["осуществляющего"]
["функции и полномочия "]
["учредителя"]
[]
["Адрес фактического ",null,null,null,null,null,null,null,null,null,null,null,null,null,null,null,null,null,null,null,null,null,null,null,null,null,"413371, Саратовская обл, Александрово-Гайский район, с. Новоалександровка , ул. Крайняя  5 \"А\""]
["местонахождения"]
["мунципального"]
["учреждения "]
["(подразделения)"]

{"sheet":"стр.2 ","index":1,"n_rows":21,"n_cols":71,"rows_kept":21,"cut":false,"hidden":false,"merged":[[20,1,20,69],[20,70,20,98],[14,1,14,99],[15,8,15,36],[16,0,16,104],[17,8,17,36],[18,0,18,104],[19,1,19,16],[13,1,13,16],[1,0,1,127],[3,0,3,127],[4,0,4,104],[5,0,5,104],[6,0,6,127],[7,0,7,104],[8,0,8,104],[9,0,9,104],[10,0,10,127],[11,0,11,127],[12,0,12,107]]}
[]
["I. Основные сведения о деятельности муниципального учреждения "]
[]
["1.1. Цели деятельности муниципального учреждения:"]
["1.1.1 Образовательная деятельность по образовательным программам дошкольного образования, присмотр и уход за детьми.  "]
["1.1.2 Создание оптимальных благоприятных условий для полноценного образования и воспитания."]
["1.2. Виды деятельности муниципального учреждения :"]
["1.2.1. Дошкольного образования для детей."]
["1.2.2. Осуществление присмотра и ухода за воспитанниками, реализацию общеобразовательной программы дошкольного образования в соответствии с ФГОС."]
["1.3. Перечень услуг (работ), относящихся в соответствии с уставом положением подразделения) к основным видам деятельности мунципального учреждения, предоставление которых для физических и юридических лиц осуществляется, в том числе за плату:"]
["1.3.1. Реализация основных общеобразовательных программ дошкольного образования."]
["1.3.2. Присмотр и уход."]
["1.4. Общая балансовая стоимость недвижимого муниципального имущества на дату составления Плана - 2 455 334,22 рублей,\n"]
[4,"в том числе:"]
[null,"стоимость имущества, закрепленного на праве оперативного управления"]
[null,null,null,null,null,null,null,null,"2 455 334,22_ рублей,"]
["стоимость имущества, приобретенного учреждением за счет доходов, полученных от иной приносящей доход деятельности"]
[null,null,null,null,null,null,null,null,"0,00 рублей,"]
["1.5. Общая балансовая стоимость движимого муниципального имущества на дату составления Плана 558 080,97 рублей,\n"]
[null,"в том числе:"]
[null,"балансовая стоимостьособо ценного движимого имущества",null,null,null,null,null,null,null,null,null,null,null,null,null,null,null,null,null,null,null,null,null,null,null,null,null,null,null,null,null,null,null,null,null,null,null,null,null,null,null,null,null,null,null,null,null,null,null,null,null,null,null,null,null,null,null,null,null,null,null,null,null,null,null,null,null,null,null,null,"138 673,29  рублей"]

{"sheet":"Таблица 1","index":2,"n_rows":32,"n_cols":3,"rows_kept":32,"cut":false,"hidden":false,"merged":[[2,0,2,2],[3,0,3,2],[4,0,4,2]]}
[null,null,"Таблица 1"]
[]
["Показатели финансового состояния учреждения (подразделения)"]
["на 01 января 20 20г."]
["(последнюю отчетную дату)"]
[]
[]
["N п/п","Наименование показателя","Сумма, тыс. руб."]
[1,2,3]
[null,"Нефинансовые активы, всего:",3152088.48]
[null,"из них:"]
[null,"недвижимое имущество, всего:",2455334.2200000002]
[null,"в том числе:"]
[null,"остаточная стоимость"]
[null,"особо ценное движимое имущество, всего:",138673.29]
[null,"в том числе:"]
[null,"остаточная стоимость",11624]
[null,"Финансовые активы, всего:",{"$f":"C20+C25","v":78463.570000000007}]
[null,"из них:"]
[null,"денежные средства учреждения, всего",{"$f":"C22+C23","v":5572.82}]
[null,"в том числе:"]
[null,"денежные средства учреждения на счетах",1660]
[null,"денежные средства учреждения, размещенные на депозиты в кредитной организации",3912.82]
[null,"иные финансовые инструменты"]
[null,"дебиторская задолженность по доходам",72890.75]
[null,"дебиторская задолженность по расходам"]
[null,"Обязательства, всего:",{"$f":"C30","v":135122.82}]
[null,"из них:"]
[null,"долговые обязательства"]
[null,"кредиторская задолженность:",{"$f":"95409.92+39712.9","v":135122.82}]
[null,"в том числе:"]
[null,"просроченная кредиторская задолженность",31926.5]

{"sheet":"Таблица 2","index":3,"n_rows":38,"n_cols":11,"rows_kept":38,"cut":false,"hidden":false,"merged":[[19,7,20,7],[5,9,5,10],[9,10,10,10],[5,6,6,6],[5,7,6,7],[5,8,6,8],[19,9,20,9],[19,8,20,8],[9,7,10,7],[9,8,10,8],[9,6,10,6],[9,9,10,9],[1,0,1,4],[5,5,6,5],[3,0,6,0],[3,1,6,1],[3,2,6,2],[3,3,3,10],[4,3,6,3],[4,4,4,10],[5,4,6,4],[9,1,10,1],[9,2,10,2],[9,3,10,3],[9,4,10,4],[29,1,30,1],[29,2,30,2],[33,1,34,1],[33,2,34,2],[33,3,34,3],[33,4,34,4],[19,1,20,1],[19,2,20,2],[19,3,20,3],[19,4,20,4],[29,3,30,3],[29,4,30,4],[29,6,30,6],[29,7,30,7],[9,5,10,5],[19,5,20,5],[33,10,34,10],[29,9,30,9],[29,10,30,10],[29,5,30,5],[33,5,34,5],[29,8,30,8],[33,8,34,8],[33,6,34,6],[33,7,34,7],[33,9,34,9],[19,10,20,10],[19,6,20,6]]}
[null,null,null,null,null,null,null,null,null,null,"Таблица 2"]
["Показатели по поступлениям и выплатам учреждения (подразделения) на",null,null,null,null,null,"20___ г."]
[]
["Наименование показателя","Код строки","КБК РФ","Объем финансового обеспечения, руб. (с точностью до двух знаков после запятой - 0,00)"]
[null,null,null,"всего","в том числе:"]
[null,null,null,null,"субсидии на финансовое обеспечение выполнения муниципального задания из местного бюджета","субсидии на финансовое обеспечение выполнения государственного задания из бюджета Федерального фонда обязательного медицинского страхования","субсидии, предоставляемые в соответствии с абзацем вторым пункта 1 статьи 78.1 Бюджетного кодекса Российской Федерации","субсидии на осуществление капитальных вложений","средства обязательного медицинского страхования","поступления от оказания услуг (выполнения работ) на платной основе и от иной приносящей доход деятельности"]
[null,null,null,null,null,null,null,null,null,"всего","из них гранты"]
[1,2,3,4,5,"5.1",6,7,8,9,10]
["Поступления от доходов, всего:",100,"X",{"$f":"D10+D12+D13+D15","v":6452290.96},{"$f":"E12","v":4255269},{"$f":"F10+F12+F13","v":0},{"$f":"G15","v":1869096.96},{"$f":"H15","v":0},{"$f":"I10+I12+I13","v":0},{"$f":"J12","v":327925}]
["в том числе:",110,null,null,"X",null,"X","X",null,null,"X"]
["доходы от собственности"]
["доходы от оказания услуг, работ",120,130,{"$f":"E12+J12","v":4583194},{"$f":"'Таблица 2.2'!H10","v":4255269},0,"X","X",null,{"$f":"'Таблица 2.2'!H14","v":327925}]
["доходы от штрафов, пеней, иных сумм принудительного изъятия",130,null,null,"X",null,"X","X",null,null,"X"]
["безвозмездные поступления от наднациональных организаций, правительств иностранных государств, международных финансовых организаций",140,null,null,"X",null,"X","X",null,null,"X"]
["иные субсидии, предоставленные из бюджета",150,180,{"$f":"G15","v":1869096.96},"X",null,{"$f":"'Таблица 2.2'!H92","v":1869096.96},{"$f":"H28","v":0},null,"X","X"]
["прочие доходы",160,null,null,"X",null,"X","X"]
["доходы от операций с активами",180,"X",null,"X",null,"X","X",null,null,"X"]
["Выплаты по расходам, всего:",200,"X",{"$f":"E18+G18+J18","v":6452290.96},{"$f":"E19+E24+E28","v":4255269},null,{"$f":"G24+G28+G19","v":1869096.96},{"$f":"H28","v":0},null,{"$f":"J28","v":327925}]
["в том числе на: выплаты персоналу всего:",210,110,{"$f":"E19+G19","v":4008050.96},{"$f":"'Таблица 2.2'!H20","v":3788954},null,{"$f":"G20","v":219096.96000000002}]
["из них:",211,110,{"$f":"E20+G20","v":4008050.96},{"$f":"'Таблица 2.2'!H20","v":3788954},null,{"$f":"'Таблица 2.2'!H94+'Таблица 2.2'!H95+'Таблица 2.2'!H96+'Таблица 2.2'!H97+'Таблица 2.2'!H108+'Таблица 2.2'!H116+'Таблица 2.2'!D101","v":219096.96000000002}]
["оплата труда и начисления на выплаты по оплате труда"]
["социальные и иные выплаты населению, всего",220]
["из них:"]
["уплату налогов, сборов и иных платежей, всего",230,850,{"$f":"E24+G24","v":14000},{"$f":"'Таблица 2.2'!H53","v":14000},null,{"$f":"'Таблица 2.2'!D103","v":0}]
["из них:"]
["безвозмездные перечисления организациям",240]
["прочие расходы (кроме расходов на закупку товаров, работ, услуг)",250]
["расходы на закупку товаров, работ, услуг, всего",260,"X",{"$f":"E28+G28+J28","v":2430240},{"$f":"'Таблица 2.2'!H31","v":452315},null,{"$f":"'Таблица 2.2'!D104+'Таблица 2.2'!D105+'Таблица 2.2'!D109+'Таблица 2.2'!H118+'Таблица 2.2'!H111+'Таблица 2.2'!H112+'Таблица 2.2'!H119","v":1650000},null,null,{"$f":"'Таблица 2.2'!H14","v":327925}]
["Поступление финансовых активов, всего:",300,"X"]
["из них:",310]
["увеличение остатков средств"]
["прочие поступления",320]
["Выбытие финансовых активов, всего",400]
["из них:",410]
["уменьшение остатков средств"]
["прочие выбытия",420]
["Остаток средств на начало года",500,"X"]
["Остаток средств на конец года",600,"X"]

{"sheet":"Таблица 2.1","index":4,"n_rows":15,"n_cols":12,"rows_kept":15,"cut":false,"hidden":false,"merged":[[6,6,6,11],[7,6,7,8],[7,9,7,11],[0,10,0,11],[1,0,1,11],[2,0,2,11],[5,0,8,0],[5,1,8,1],[5,2,8,2],[5,3,5,11],[6,3,7,5]]}
[null,null,null,null,null,null,null,null,null,null,"Таблица 2.1"]
["Показатели выплат по расходам на закупку товаров, работ, услуг учреждения (подразделения)"]
["на 01 января   2020 г."]
[]
[]
["Наименование показателя","Код строки","Год начала закупки","Сумма выплат по расходам на закупку товаров, работ и услуг, руб. (с точностью до двух знаков после запятой - 0,00"]
[null,null,null,"всего на закупки",null,null,"в том числе:"]
[null,null,null,null,null,null,"в соответствии с Федеральным законом от 5 апреля 2013 г. N 44-ФЗ \"О контрактной системе в сфере закупок товаров, работ, услуг для обеспечения государственных и муниципальных нужд\"",null,null,"в соответствии с Федеральным законом от 18 июля 2011 г. N 223-ФЗ \"О закупках товаров, работ, услуг отдельными видами юридических лиц\""]
[null,null,null,"на 2019г. очередной финансовый год","на 20__ г. 1-ый год планового периода","на 20__ г. 2-ой год планового периода","на 20 17 г. очередной финансовый год","на 20__ г. 1-ый год планового периода","на 20__ г. 2-ой год планового периода","на 20__ г. очередной финансовый год","на 20__ г. 1-ый год планового периода","на 20__ г. 1-ый год планового периода"]
[1,2,3,4,5,6,7,8,9,10,11,12]
["Выплаты по расходам на закупку товаров, работ, услуг всего:",1,"X",{"$f":"D12+D14","v":2430240},null,null,{"$f":"G12+G14","v":2430240}]
["в том числе: на оплату контрактов заключенных до начала очередного финансового года:",1001,"X",{"$f":"D13","v":0},null,null,{"$f":"G13","v":0}]
[null,null,2019,{"$f":"'Таблица 2.2'!D104+'Таблица 2.2'!D105+'Таблица 2.2'!D109+'Таблица 2.2'!H111+'Таблица 2.2'!H112","v":0},null,null,{"$f":"D13","v":0}]
["на закупку товаров работ, услуг по году начала закупки:",2001,null,{"$f":"D15","v":2430240},null,null,{"$f":"G15","v":2430240}]
[null,null,2020,{"$f":"'Таблица 2.2'!H31+'Таблица 2.2'!H69+'Таблица 2.2'!D98+'Таблица 2.2'!H118+'Таблица 2.2'!H119","v":2430240},null,null,{"$f":"D15","v":2430240}]

{"sheet":"Таблица 2.2","index":5,"n_rows":124,"n_cols":8,"rows_kept":124,"cut":false,"hidden":false,"merged":[[64,0,64,7],[69,0,69,7],[83,0,83,7],[120,0,120,7],[88,0,88,7],[92,0,92,7],[0,6,0,7],[8,0,8,7],[14,0,14,7],[18,0,18,7],[2,0,2,7],[4,0,5,0],[4,1,5,1],[4,2,5,2],[4,3,4,7],[62,0,62,7],[53,0,53,7],[20,0,20,7],[31,0,31,7],[50,0,50,7],[79,8,79,11],[32,8,32,11],[34,8,34,11],[42,8,42,11],[44,8,44,11],[46,8,46,11],[47,8,47,11],[48,8,48,11],[41,8,41,11],[43,8,43,11],[45,8,45,11]]}
[null,null,null,null,null,null,"Таблица 2.2"]
[]
["Показатели по поступлениям и выплатам бюджетного учреждения (подразделения), детализировано"]
[null,null,null,null,null,null,null,"Улыбка"]
["№ п\\п","Наименование показателя","Код бюджетной классификации","Очередной финансовый год"]
[null,null,null,"I кв.","II кв.","III кв.","IV кв.","Всего "]
["1.","Остаток средств на начало планируемого года","Х",0,null,null,null,{"$f":"SUM(D7:G7)","v":0}]
["2.","Поступления, всего:","Х",{"$f":"SUM(D10:D14)","v":3288190.24},{"$f":"SUM(E10:E14)","v":1936760.24},{"$f":"SUM(F10:F14)","v":1056738.24},{"$f":"SUM(G10:G14)","v":170602.23999999999},{"$f":"SUM(D8:G8)","v":6452290.9600000009}]
["в том числе:"]
["2.1.","Субсидии на выполнении муниципального задания, в том числе:",null,{"$f":"D18","v":1501434},{"$f":"E18","v":1800004},{"$f":"F18","v":919982},{"$f":"G18","v":33849},4255269]
["2.2.","Субсидии на иные цели",null,{"$f":"D92","v":1704775.24},{"$f":"E92","v":54775.240000000005},54775.240000000005,54771.240000000005,1869096.96]
["2.3.","Бюджетные инвестиции",null,null,null,null,null,0]
["2.4.","Поступления от оказания бюджетным учреждением услуг (выполнение работ), предоставление которых для физических и юридических лиц осуществляется на платной основе",null,null,null,null,null,0]
["2.5.","Поступления от иной приносящей доход деятельности, всего:",null,{"$f":"D16+D17","v":81981},{"$f":"E16+E17","v":81981},{"$f":"F16+F17","v":81981},{"$f":"G16+G17","v":81982},327925]
["в том числе:"]
["2.5.1.","от сдачи имущества в аренду",null,null,null,null,null,0]
["2.5.2.","иные поступления",null,{"$f":"D62","v":81981},{"$f":"E62","v":81981},{"$f":"F62","v":81981},{"$f":"G62","v":81982},327925]
["3.","Выплаты за счет субсидии на финансовое обеспечение выполнения муниципального задания из местного бюджета, всего:","Х",{"$f":"D20+D31+D50+D53","v":1501434},{"$f":"E20+E31+E50+E53","v":1800004},{"$f":"F20+F31+F50+F53","v":919982},{"$f":"G20+G31+G50+G53","v":33849},4255269]
["в том числе:"]
["3.1.","Расходы на выплаты персоналу в целях обеспечения выполнения функций государственными (муниципальными) органами, казенными учреждениями, органами управления государственными внебюджетными фондами, всего",100,{"$f":"SUM(D22:D29)","v":1217370},{"$f":"SUM(E22:E29)","v":1692600},{"$f":"SUM(F22:F30)","v":878984},{"$f":"SUM(G22:G29)","v":0},3788954]
["из них:"]
["3.1.1.","Заработная плата","075;0701;69 1 01 07300;111 (211)",{"$f":"270000","v":270000},{"$f":"375000","v":375000},{"$f":"167000","v":167000},null,812000]
["3.1.1.","Заработная плата","075;0701;69 1 01 07300;111 (266)",{"$f":"10000","v":10000},null,null,null,10000]
["3.1.1.","Заработная плата","075;0701;69 1 01 76700;111 (211)",{"$f":"635000","v":635000},{"$f":"925000","v":925000},{"$f":"525000","v":525000},null,{"$f":"SUM(D24:G24)","v":2085000}]
["3.1.1.","Заработная плата","075;0701;69 1 01 76700;111 (266)",{"$f":"20000","v":20000},null,null,null,{"$f":"SUM(D25:G25)","v":20000}]
["3.1.1.","Заработная плата","075;0701;69 1 01 72200;111 (211)",null,null,null,null,{"$f":"SUM(D26:G26)","v":0}]
["3.1.2.","Прочие выплаты","075;0701;69 1 01 07300;112 (212)",null,null,null,null,0]
["3.1.3.","Начисления на выплаты по оплате труда","075;0701;69 1 01 07300;119 (213)",{"$f":"84560","v":84560},{"$f":"113250","v":113250},{"$f":"28434","v":28434},null,{"$f":"SUM(D28:G28)","v":226244}]
["3.1.3.","Начисления на выплаты по оплате труда","075;0701;69 1 01 76700;119 (213)",{"$f":"197810","v":197810},{"$f":"279350","v":279350},{"$f":"158550","v":158550},null,{"$f":"SUM(D29:G29)","v":635710}]
["3.1.3.","Начисления на выплаты по оплате труда ","075;0701;69 1 01 72200;111 (213)",null,null,null,null,{"$f":"SUM(D30:G30)","v":0}]
["3.2.","Закупка товаров, работ и услуг для обеспечения государственных (муниципальных) нужд, всего",200,{"$f":"SUM(D33:D49)","v":274064},{"$f":"SUM(E33:E49)","v":107404},{"$f":"SUM(F33:F49)","v":36998},{"$f":"SUM(G33:G49)","v":33849},{"$f":"SUM(D31:G31)","v":452315}]
["из них:"]
["3.2.1.","Услуги связи","075;0701;69 1 01 07300;244 (221)",{"$f":"2500","v":2500},{"$f":"2500","v":2500},{"$f":"2500","v":2500},{"$f":"2500","v":2500},10000]
["3.2.2.","Транспортные услуги","075;0701;69 1 01 07300;244 (222)",null,null,null,null,0]
["3.2.3.","Коммунальные услуги","075;0701;69 1 01 07300;244 (223)",{"$f":"174375","v":174375},{"$f":"69750","v":69750},{"$f":"10000","v":10000},null,254125]
["3.2.3.","Коммунальные услуги обл","075;0701;69 1 01 72200;244 (223)",null,null,null,null,{"$f":"SUM(D36:G36)","v":0}]
["3.2.4.","Арендная плата за пользование имуществом","075;0701;69 1 01 07300;244 (224)",null,null,null,null,0]
["3.2.5.","Работы, услуги по содержанию имущества","075;0701;69 1 01 07300;244 (225)",{"$f":"40000","v":40000},{"$f":"10000","v":10000},{"$f":"5500","v":5500},{"$f":"5500","v":5500},61000]
["3.2.6.","Прочие работы, услуги","075;0701;69 1 01 07300;244 (226)",{"$f":"3400","v":3400},{"$f":"3400","v":3400},{"$f":"3400","v":3400},{"$f":"3400","v":3400},13600]
["3.2.7.","Прочие расходы","075;0701;69 1 01 07300;244 (290)",null,null,null,null,0]
["3.2.8.","Увеличение стоимости основных средств","075;0701;69 1 01 07300;244 (310)",{"$f":"5000","v":5000},null,null,null,{"$f":"SUM(D41:G41)","v":5000}]
["3.2.8.","Увеличение стоимости основных средств","075;0701;69 1 01 76700;244 (310)",{"$f":"21000","v":21000},null,null,null,{"$f":"SUM(D42:G42)","v":21000}]
["3.2.9.","Увеличение стоимости материальных запасов","075;0701;69 1 01 07300;244 (346)",{"$f":"3500","v":3500},null,null,null,{"$f":"SUM(D43:G43)","v":3500}]
["3.2.9.","Увеличение стоимости материальных запасов","075;0701;69 1 01 07300;244 (342)",{"$f":"7935","v":7935},null,null,null,7935]
["3.2.9.","Увеличение стоимости материальных запасов","075;0701;69 1 01 07300;244 (341)",{"$f":"330","v":330},null,null,null,{"$f":"SUM(D45:G45)","v":330}]
["3.2.9.","Увеличение стоимости материальных запасов","075;0701;69 1 01 07300;244 (345)",{"$f":"4200","v":4200},null,null,null,4200]
["3.2.9.","Увеличение стоимости материальных запасов","075;0701;69 10 1 76900;244 (342)",{"$f":"7224","v":7224},{"$f":"21754","v":21754},{"$f":"15598","v":15598},{"$f":"22449","v":22449},67025]
["3.2.9.","Увеличение стоимости материальных запасов","075;0701;69 10 1 76900;244 (341)",{"$f":"600","v":600},null,null,null,600]
["3.2.9.","Увеличение стоимости материальных запасов","075;0701;69 10 1 76900;244 (345)",{"$f":"4000","v":4000},null,null,null,4000]
["3.3.","Социальное обеспечение и иные выплаты населению, всего:",300,{"$f":"D52","v":0},{"$f":"E52","v":0},{"$f":"F52","v":0},{"$f":"G52","v":0},0]
["из них:"]
["3.3.1.","Пособия по социальной помощи населению",null,null,null,null,null,0]
["3.4.","Иные бюджетные ассигнования, всего:",800,{"$f":"SUM(D55:D58)","v":10000},{"$f":"SUM(E55:E61)","v":0},{"$f":"SUM(F55:F61)","v":4000},{"$f":"SUM(G55:G61)","v":0},14000]
["из них:"]
["3.4.1.","Уплата налога на имущество организаций и земельного налога","075;0701;69 1 01 07300;851 (291)",null,null,{"$f":"1000","v":1000},null,1000]
[null,null,"075;0701;69 1 01 72200;851 (291)",null,null,null,null,{"$f":"SUM(D56:G56)","v":0}]
["3.4.2.","Уплата прочих налогов, сборов","075;0701;69 1 01 07300;852 (292)",null,null,null,null,0]
["3.4.3.","Уплата иных платежей","075;0701;69 1 01 07300;853(293)",{"$f":"10000","v":10000},null,null,null,10000]
["3.4.3.","Уплата иных платежей","075;0701;69 1 01 07300;853(297)",null,null,null,null,0]
["3.4.4.","Уплата иных платежей","075;0701;69 1 01 07300;831 (297)",null,null,null,null,0]
["3.4.5.","Уплата налога на имущество организаций и земельного налога","075;0701;69 1 01 07300;851 (294)",null,null,{"$f":"3000","v":3000},null,{"$f":"SUM(D61:G61)","v":3000}]
["4.","Выплаты за счет поступлений от оказания услуг (выполнения работ) на платной основе и от иной приносящей доход деятельности, всего:","Х",{"$f":"D64+D69+D83","v":81981},{"$f":"E64+E69+E83","v":81981},{"$f":"F64+F69+F83","v":81981},{"$f":"G64+G69+G83","v":81982},327925]
["в том числе:"]
["4.1.","Расходы на выплаты персоналу в целях обеспечения выполнения функций государственными (муниципальными) органами, казенными учреждениями, органами управления государственными внебюджетными фондами, всего",100,{"$f":"SUM(D66:D68)","v":0},{"$f":"SUM(E66:E68)","v":0},{"$f":"SUM(F66:F68)","v":0},{"$f":"SUM(G66:G68)","v":0},{"$f":"SUM(D64:G64)","v":0}]
["из них:"]
["4.1.1.","Заработная плата",null,null,null,null,null,{"$f":"SUM(D66:G66)","v":0}]
["4.1.2.","Прочие выплаты",null,null,null,null,null,{"$f":"SUM(D67:G67)","v":0}]
["4.1.3.","Начисления на выплаты по оплате труда",null,null,null,null,null,{"$f":"SUM(D68:G68)","v":0}]
["4.2.","Закупка товаров, работ и услуг для обеспечения государственных (муниципальных) нужд, всего",200,{"$f":"SUM(D71:D82)","v":81981},{"$f":"SUM(E71:E82)","v":81981},{"$f":"SUM(F71:F82)","v":81981},{"$f":"SUM(G71:G82)","v":81982},{"$f":"SUM(D69:G69)","v":327925}]
["из них:"]
["4.2.1.","Услуги связи","075;0701;00 0 00 00000 244  (221)",null,null,null,null,{"$f":"SUM(D71:G71)","v":0}]
["4.2.2.","Транспортные услуги","075;0701;00 0 00 00000 244  (222)",null,null,null,null,0]
["4.2.3.","Коммунальные услуги","075;0701;00 0 00 00000 244  (223)",null,null,null,null,0]
["4.2.4.","Арендная плата за пользование имуществом","075;0701;00 0 00 00000 244  (224)",null,null,null,null,0]
["4.2.5.","Работы, услуги по содержанию имущества","075;0701;00 0 00 00000 244  (225)",null,null,null,null,0]
["4.2.6.","Прочие работы, услуги","075;0701;00 0 00 00000 244  (226)",null,null,null,null,0]
["4.2.7.","Прочие расходы","075;0701;00 0 00 00000 244  (290)",null,null,null,null,0]
["4.2.8.","Увеличение стоимости основных средств","075;0701;00 0 00 00000 244  (310)",null,null,null,null,0]
["4.2.9.","Увеличение стоимости материальных запасов","075;0701;00 0 00 00000 244  (341)",null,null,null,null,0]
["4.2.10.","Увеличение стоимости материальных запасов","075;0701;00 0 00 00000 244  (342)",{"$f":"81981","v":81981},{"$f":"81981","v":81981},{"$f":"81981","v":81981},{"$f":"81982","v":81982},{"$f":"SUM(D80:G80)","v":327925}]
["4.2.11.","Увеличение стоимости материальных запасов","075;0701;00 0 00 00000 244  (344)",null,null,null,null,{"$f":"SUM(D81:G81)","v":0}]
["4.2.12.","Увеличение стоимости материальных запасов","075;0701;00 0 00 00000 244  (346)",null,null,null,null,0]
["4.3.","Иные бюджетные ассигнования, всего:",800,{"$f":"SUM(D85:D87)","v":0},{"$f":"SUM(E85:E87)","v":0},{"$f":"SUM(F85:F87)","v":0},{"$f":"SUM(G85:G87)","v":0},{"$f":"SUM(D83:G83)","v":0}]
["из них:"]
["4.3.1.","Уплата налога на имущество организаций и земельного налога",null,null,null,null,null,{"$f":"SUM(D85:G85)","v":0}]
["4.3.2.","Уплата прочих налогов, сборов",null,null,null,null,null,{"$f":"SUM(D86:G86)","v":0}]
["4.3.3.","Уплата иных платежей",null,null,null,null,null,{"$f":"SUM(D87:G87)","v":0}]
["5.","Выплаты за счет поступлений на осуществление бюджетных инвестиций, всего ","Х",{"$f":"SUM(D90:D91)","v":0},{"$f":"SUM(E90:E91)","v":0},{"$f":"SUM(F90:F91)","v":0},{"$f":"SUM(G90:G91)","v":0},{"$f":"SUM(D88:G88)","v":0}]
["в том числе:"]
[null,null,null,null,null,null,null,0]
[null,null,null,null,null,null,null,0]
["6.","Выплаты за счет субсидии на иные цели, всего","Х",{"$f":"SUM(D94:D119)","v":1704775.24},{"$f":"SUM(E94:E119)","v":54775.240000000005},54775.240000000005,54771.240000000005,1869096.96]
["в том числе:"]
["6.1","Заработная плата (софинансирование)","075;0701;37 1 01 S2300;111 (211)",{"$f":"422","v":422},{"$f":"422","v":422},{"$f":"422","v":422},{"$f":"419","v":419},{"$f":"SUM(D94:G94)","v":1685}]
["6.2","Начисления на выплаты по оплате труда (софинансирование)","075;0701;37 1 01 S2300;119 (213)",{"$f":"127.44","v":127.44},{"$f":"127.44","v":127.44},{"$f":"127.44","v":127.44},126.44,{"$f":"SUM(D95:G95)","v":508.76}]
["6.3","Заработная плата (область)","075;0701;37 1 01 72300;111 (211)",{"$f":"41648","v":41648},{"$f":"41648","v":41648},{"$f":"41648","v":41648},{"$f":"41648","v":41648},166592]
["6.4","Начисления на выплаты по оплате труда (область))","075;0701;37 1 01 72300;119 (213)",{"$f":"12577.8","v":12577.8},{"$f":"12577.8","v":12577.8},{"$f":"12577.8","v":12577.8},{"$f":"12577.8","v":12577.8},50311.199999999997]
["6.5","Увеличение стоимости основных средств","075;0701;78 1 01 17300;241 (310)",null,null,null,null,0]
["6.6","Заработная плата (область)","075;0701;69  1 07 79200;111 (211)",null,null,null,null,0]
["6.7","Начисления на выплаты по оплате труда (область)","075;0701;69  1 07 79200;119 (213)",null,null,null,null,0]
["6.8","Начисления на выплаты по оплате труда (кредиторка)","075;0701;69 1 03 72400;241 (213)",null,null,null,null,0]
["6.9","Уплата налога на имущество организаций и земельного налога (кредиторка)","075;0701;69 1 03 72400;851 (291)",null,null,null,null,0]
["6.10","Уплата иных платежей (кредиторка)","075;0701;69 1 03 72400;853 (293)",null,null,null,null,0]
["6.11","Работы, услуги по содержанию имущества (кредиторка)","075;0701;69 1 03 72400;244 (225)",null,null,null,null,0]
["6.12","Прочие работы, услуги (кредиторка)","075;0701;69 1 03 72400;244 (226)",null,null,null,null,0]
["6.13","Заработная плата (область)","075;0701;69 1 07 78А00;111 211",null,null,null,null,0]
["6.14","Начисления на выплаты по оплате труда (область)","075;0701;69 1 07 78А00;119 213",null,null,null,null,0]
["6.15","Начисления на выплаты по оплате труда (кредиторка)","075;0701;69 1 03 073Г0;119 (213)",null,null,null,null,{"$f":"SUM(D108:G108)","v":0}]
["6.16","Услуги связи (кредиторка)","075;0701;69 1 03 073Г0;244 (221)",null,null,null,null,{"$f":"SUM(D109:G109)","v":0}]
["6.17","Коммунальные услуги (кредиторка)","075;0701;69 1 03 073Г0;244 (223) ",null,null,null,null,{"$f":"SUM(D110:G110)","v":0}]
["6.18","Работы, услуги по содержанию имущества (кредиторка)","075;0701;69 1 03 073Г0;244 (225) ",null,null,null,null,0]
["6.19","Прочие работы, услуги(кредиторка)","075;0701;69 1 03 073Г0;244 (226) ",null,null,null,null,0]
["6.20","Уплата налога на имущество организаций и земельного налога (кредиторка)","075;0701;69 1 03 073Г0;851 (291)",null,null,null,null,0]
["6.21","Уплата иных платежей (кредиторка)","075;0701;69 1 01 073Г0;853 (297)",null,null,null,null,0]
["6.22","Увеличение стоимости материальных запасов (кредиторка)","075;0701;69 1 03 073Г0;851 (342)",null,null,null,null,0]
["6.23","Начисления на выплаты по оплате труда","075;0701;69 1 03 72200;119 (213)",null,null,null,null,0]
["6.24","Уплата иных платежей(кредиторка)","075;0701;69 1 03 073Г0;853 (293)",null,null,null,null,{"$f":"SUM(D117:G117)","v":0}]
["6.25","Приобретение бойлера","075;0701;76 1 04 79200;244 310",null,null,null,null,0]
["6.26",null,"075;0701;76 1 02 79Б00;244 (226)",{"$f":"1650000","v":1650000},null,null,null,1650000]
["7.","Остаток средств на конец планируемого года","Х",{"$f":"SUM(D122:D124)","v":0},{"$f":"SUM(E122:E124)","v":0},{"$f":"SUM(F122:F124)","v":0},{"$f":"SUM(G122:G124)","v":0},0]
["в том числе:"]
["7.1.","остаток субсидии на выполнение муниципального задания",null,null,null,null,null,0]
["7.2.","остаток целевой субсидии",null,null,null,null,null,0]
["7.3.","остаток средств от оказания услуг (выполнения работ) на платной основе и от иной приносящей доход деятельности",null,null,null,null,null,0]

{"sheet":"Таблица 3","index":6,"n_rows":17,"n_cols":3,"rows_kept":17,"cut":false,"hidden":false,"merged":[[5,0,5,2],[7,0,7,2],[6,0,6,2],[8,0,8,2]]}
[]
[]
[]
[null,null,"Таблица 3"]
[]
["Сведения о средствах, поступающих \n"]
["во временное распоряжение учреждения (подразделения)"]
["на    01 января 20 20  г."]
["(очередной финансовый год)"]
[]
["Наименование показателя","Код строки","Сумма (руб., с точностью до двух знаков после запятой - 0,00)"]
[1,2,3]
["Остаток средств на начало года",10,0]
["Остаток средств на конец года",20,0]
["Поступление",30,0]
[]
["Выбытие",40,0]

{"sheet":"Таблица 4","index":7,"n_rows":19,"n_cols":3,"rows_kept":19,"cut":false,"hidden":false,"merged":[[2,0,2,2]]}
[null,null,"Таблица 4"]
[]
["Справочная информация"]
[]
[]
["Наименование показателя","Код строки","Сумма (тыс. руб.)"]
[1,2,3]
["Объем публичных обязательств, всего:",10,0]
["Объем бюджетных инвестиций (в части переданных полномочий государственного (муниципального) заказчика в соответствии с Бюджетным кодексом Российской Федерации), всего:",20,0]
["Объем средств, поступивших во временное распоряжение, всего:",30,0]
[]
[]
["Руководитель      "]
["финансово-экономической службы                           Г.В Колина"]
[]
["Ответственный исполнитель                                         Е. С. Полянина"]
[]
[]
["\" 31\"  декабря   2019г."]

{"sheet":"расчеты мун.задание","index":8,"n_rows":219,"n_cols":11,"rows_kept":219,"cut":false,"hidden":false,"merged":[[201,2,201,3],[202,2,202,3],[200,4,200,5],[201,4,201,5],[202,4,202,5],[209,2,209,3],[209,5,209,6],[213,5,213,6],[205,1,205,6],[214,2,214,3],[214,5,214,6],[218,0,218,1],[218,2,218,3],[218,5,218,6],[210,2,210,3],[210,5,210,6],[211,2,211,3],[211,5,211,6],[213,2,213,3],[212,2,212,3],[212,5,212,6],[215,2,215,3],[215,5,215,6],[216,2,216,3],[216,5,216,6],[217,2,217,3],[217,5,217,6],[206,0,208,0],[206,1,208,1],[206,2,208,3],[206,4,208,4],[186,2,186,3],[186,5,186,6],[189,0,189,1],[189,2,189,3],[189,5,189,6],[191,1,191,6],[192,0,194,0],[192,1,194,1],[192,2,194,3],[192,4,194,5],[206,5,208,6],[203,4,203,5],[203,2,203,3],[203,0,203,1],[198,2,198,3],[198,4,198,5],[199,2,199,3],[199,4,199,5],[187,2,187,3],[200,2,200,3],[182,1,184,1],[182,2,184,3],[182,4,184,4],[182,5,184,6],[195,2,195,3],[195,4,195,5],[196,2,196,3],[196,4,196,5],[197,2,197,3],[197,4,197,5],[187,5,187,6],[188,2,188,3],[188,5,188,6],[167,2,167,3],[167,6,167,7],[185,2,185,3],[185,5,185,6],[170,2,170,3],[170,6,170,7],[171,0,171,1],[171,2,171,3],[171,6,171,7],[173,1,173,5],[174,0,176,0],[174,1,176,1],[174,2,176,3],[174,4,176,4],[174,5,176,6],[177,2,177,3],[177,5,177,6],[178,2,178,3],[178,5,178,6],[179,0,179,1],[179,2,179,3],[179,5,179,6],[181,1,181,6],[182,0,184,0],[168,2,168,3],[168,6,168,7],[169,2,169,3],[169,6,169,7],[155,1,155,5],[156,0,158,0],[156,1,158,1],[156,2,158,3],[156,4,158,4],[156,5,158,6],[159,2,159,3],[159,5,159,6],[160,2,160,3],[160,5,160,6],[161,0,161,1],[161,2,161,3],[161,5,161,6],[163,1,163,5],[164,0,166,0],[164,1,166,1],[164,2,166,3],[164,4,166,4],[164,5,166,5],[164,6,166,7],[152,2,152,3],[152,6,152,7],[153,0,153,1],[153,2,153,3],[153,6,153,7],[129,0,129,5],[131,0,131,5],[132,1,132,5],[134,0,136,0],[134,1,136,1],[134,2,136,3],[134,4,136,4],[134,5,136,6],[137,2,137,3],[137,5,137,6],[138,2,138,3],[138,5,138,6],[139,0,139,1],[139,2,139,3],[139,5,139,6],[142,0,142,5],[144,0,144,5],[145,1,145,5],[147,1,147,5],[124,2,124,3],[124,5,124,6],[148,6,150,7],[151,2,151,3],[151,6,151,7],[125,2,125,3],[125,5,125,6],[126,0,126,1],[126,2,126,3],[126,5,126,6],[148,0,150,0],[148,1,150,1],[148,2,150,3],[148,4,150,4],[148,5,150,5],[102,1,102,6],[104,0,104,5],[105,1,105,5],[107,0,109,0],[107,1,109,1],[107,2,109,3],[107,4,109,4],[107,5,109,6],[110,2,110,3],[110,5,110,6],[111,2,111,3],[111,5,111,6],[113,0,113,1],[113,2,113,3],[113,5,113,6],[116,0,116,5],[118,0,118,5],[119,1,119,5],[121,0,123,0],[121,1,123,1],[121,2,123,3],[121,4,123,4],[121,5,123,6],[112,2,112,3],[112,5,112,6],[96,0,99,5],[72,0,73,0],[72,1,73,3],[72,4,73,5],[72,6,73,6],[74,0,75,0],[74,1,75,3],[74,4,75,5],[74,6,75,6],[76,0,77,0],[76,1,77,3],[76,4,77,5],[76,6,77,6],[78,0,79,0],[78,1,79,3],[78,4,79,5],[78,6,79,6],[82,1,82,6],[84,0,84,5],[85,1,85,5],[87,0,89,0],[87,1,89,1],[87,2,89,3],[87,4,89,4],[58,0,59,0],[58,1,59,3],[91,2,91,3],[92,0,92,1],[92,2,92,3],[95,0,95,2],[87,5,89,5],[90,2,90,3],[58,4,59,5],[54,6,57,6],[56,1,57,3],[58,6,59,6],[70,0,71,0],[70,1,71,3],[70,4,71,5],[70,6,71,6],[62,0,63,0],[62,1,63,3],[62,4,63,5],[62,6,63,6],[64,0,67,0],[64,1,65,3],[68,0,69,0],[68,1,69,3],[68,4,69,5],[68,6,69,6],[64,4,67,5],[64,6,67,6],[66,1,67,3],[60,0,61,0],[60,1,61,3],[60,4,61,5],[60,6,61,6],[28,6,30,6],[52,0,53,0],[52,1,53,3],[52,4,53,5],[52,6,53,6],[31,2,31,3],[32,2,32,3],[33,0,33,1],[33,2,33,3],[48,6,50,6],[51,1,51,3],[51,4,51,5],[26,2,26,7],[28,0,30,0],[28,1,30,1],[28,2,30,3],[28,4,30,4],[28,5,30,5],[54,0,57,0],[54,1,55,3],[41,2,41,3],[42,2,42,3],[43,0,43,1],[43,2,43,3],[46,1,46,6],[54,4,57,5],[48,0,50,0],[48,1,50,3],[48,4,50,5],[36,2,36,7],[38,0,40,0],[38,1,40,1],[38,2,40,3],[38,4,40,4],[38,5,40,5],[38,6,40,6],[15,10,17,10],[16,3,17,3],[16,4,16,6],[23,0,23,1],[0,2,3,8],[5,3,5,6],[8,3,8,6],[10,2,10,8],[13,0,13,6],[15,0,17,0],[15,9,17,9],[15,8,17,8],[15,1,17,1],[15,2,17,2],[15,3,15,6],[15,7,17,7]]}
[null,null,"Расчеты (обоснования) к плану финансово-хозяйственной деятельности муниципального бюдженого учреждения по состоянию на 01.01.2020г."]
[]
[]
[]
[]
[null,null,null,"1. Расчеты (обоснования) выплат персоналу (строка 210)"]
[]
[]
[null,null,null,"Код вида расходов_111, 112, 119_"]
[]
[null,null,"Источник финансового обеспечения______Субсидии на выполнение муниципального задания________________________________"]
[]
[]
["1.1 Расчеты (обоснования) расходов на оплату труда"]
[]
["№ п/п","Должность, группа должностей","Установленная численность, единиц","Среднемесячный размер оплаты труда на одного работника, руб.",null,null,null,"Ежемесячная надбавка к должностному окладу, %","Районный коэффициент","4% и доведение до  МРОТ","Фонд оплаты труда в год, руб. (гр.3*гр.4*(1+гр.8/100)+гр.10*гр.9)*12"]
[null,null,null,"всего","в том числе:"]
[null,null,null,null,"по должностному окладу","по выплатам компенсационного характера","по выплатам стимулирующего характера"]
[1,2,3,4,5,6,7,8,9,10,11]
[1,"административно-управленческий персонал",1,25509.919999999998,17105,0,4224.3900000000003,0,1.1499999999999999,981.15,306119.03999999998]
[2,"педагогический персонал",4.8,20752.900000000001,12095,438.75,2258.31,0,1.1499999999999999,0,1195367.04]
[3,"учебно-вспомогательный персонал",3,13949.5,7926,951.12,511.65,0,1.1499999999999999,3152.42,502182]
[4,"обслуживающий персонал",7.15,12475.4,7919,1073.4000000000001,1339.6,0,1.1499999999999999,594.1,1070389.32]
["Итого:",null,{"$f":"SUM(C20:C23)","v":15.950000000000001},null,"х","х","х","х","х","х",{"$f":"SUM(K20:K23)","v":3074057.4000000004}]
[]
[]
[null,null,"1.2 Расчеты (обоснования) выплат персоналу при направлении в служебные командировки"]
[]
["№ п/п","Наименование расходов","Средний размер выплаты на одного работника в день, руб.",null,"Количество работников, чел.","Количество дней","Сумма, руб. (гр.3*гр.4*гр.5)"]
[]
[]
[1,2,3,null,4,5,6]
[null,null,null,null,null,null,{"$f":"C33*D33*E33","v":0}]
["Итого:",null,"х",null,"х","х",{"$f":"SUM(G33)","v":0}]
[]
[]
[null,null,"1.3 Расчеты (обоснования) выплат персоналу по уходу за ребенком"]
[]
["№ п/п","Наименование расходов","Численность работников, получающих пособие",null,"Количество выплат в год на одного работника","Размер выплаты (пособия) в месяц, руб.","Сумма, руб. (гр.3*гр.4*гр.5)"]
[]
[]
[1,2,3,null,4,5,6]
[null,null,null,null,null,null,{"$f":"C43*D43*E43","v":0}]
["Итого:",null,"х",null,"х","х",{"$f":"SUM(G43)","v":0}]
[]
[]
[null,"1.4 Расчеты (обоснования) страховых взносов на обязательное страхование в Пенсионный фонд Российской Федерации, в Фондсоциального страхования Российской Федерации, в Федеральный фонд обязательного медицинского страхования"]
[]
["№ п/п","Наименование государственного внебюджетного фонда",null,null,"Размер базы для начисления страховых взносов, руб.",null,"Сумма взноса, руб."]
[]
[]
[1,2,null,null,3,null,4]
[1,"Страховые взносы в Пенсионный фонд Российской Федерации, всего",null,null,"х",null,{"$f":"SUM(G55+G59+G61)","v":676292.63}]
[]
["1.1","в том числе:",null,null,null,null,676292.63]
[]
[null,"по ставке 22,0%"]
[]
["1.2","по ставке 10,0%",null,null,null,null,0]
[]
["1.3","с применением пониженных тарифов взносов в Пенсионный фонд Российской Федерации для отдельных категорий плательщиков",null,null,null,null,0]
[]
["2","Страховые взносы в Фонд социального страхования Российской Федерации, всего",null,null,"х",null,{"$f":"G65+G73+G75","v":95295.77}]
[]
["2.1","в том числе:",null,null,null,null,89147.66]
[]
[null,"обязательное социальное страхование на случай временной нерудоспособности и в связи с материнством по ставке 2,9%"]
[]
["2.2","с применением ставки взносов в Фонд социального страхования Российской федерации по ставке 0,0%",null,null,"х",null,0]
[]
["1",2,null,null,3,null,4]
[]
["2.4","обязательное социальное страхование от несчастных случаев на производстве и профессиональных заболваний по ставке 0,2%*",null,null,null,null,6148.11]
[]
["2.5","обязательное социальное страхование от несчастных случаев на производстве и профессиональных заболваний по ставке 0,__%*",null,null,null,null,0]
[]
["3","Страховые взносы в Федеральный фонд обязательного медицинского страхования, всего (по ставке 5,1%)",null,null,null,null,156776.93]
[]
[null,"Итого:",null,null,"х",null,{"$f":"G55+G65+G73+G77","v":928365.33000000007}]
[]
[]
[]
[null,"2. Расчеты (обоснования) расходов на социальные и иные выплаты населению"]
[]
["    Код вида доходов______________________________________________"]
[null,"Источник финансового обеспечения___________________________________"]
[]
["№ п/п","Наименование расходов","Размер одной выплаты, руб.",null,"Количество выплат в год","Сумма, руб. (гр.3*гр.4)"]
[]
[]
[1,2,3,null,4,5]
[null,null,null,null,null,{"$f":"C92*E92","v":0}]
["Итого:",null,"х",null,"х",{"$f":"SUM(F92)","v":0}]
[]
[]
["__________________________________"]
["* Указываются страховые тарифы, дифференцированные по классам профессионального риска, установленные Федеральным законом от 22 декабря 2005 г. № 179-ФЗ \"О страховых тарифах на обязательное социальное страхование от несчастных случаев на производстве и прфессиональных заболеваний на 2006 год\"."]
[]
[]
[]
[]
[]
[null,"3. Расчеты (обоснования) расходов на уплату налогов, сборов и иных платежей"]
[]
["                 Код вида доходов 851,852______________________________________________"]
[null,"Источник финансового обеспечения___________________________________"]
[]
["№ п/п","Наименование расходов","Налоговая база, руб.",null,"Ставка налога, %","Сумма исчисленного налога, подлежащего уплате, руб. (гр.3*гр.4/100)"]
[]
[]
[1,2,3,null,4,5]
[1,"налог на имущество",null,null,null,{"$f":"'Таблица 2.2'!H55","v":1000}]
[2,"земельный налог",null,null,null,{"$f":"'Таблица 2.2'!H61","v":3000}]
["Итого:",null,null,null,"х",{"$f":"SUM(F112:G113)","v":4000}]
[]
[]
["4. Расчеты (обоснования) расходов на безвозмездные перечисления организациям"]
[]
["      Код вида доходов ______________________________________________"]
[null,"Источник финансового обеспечения___________________________________"]
[]
["№ п/п","Наименование показателя","Размер одной выплаты, руб.",null,"Количество выплат в год","Общая сумма выплат, руб. (гр.3*гр.4)"]
[]
[]
[1,2,3,null,4,5]
[null,null,null,null,null,{"$f":"C126*E126","v":0}]
["Итого:",null,"х",null,"х",{"$f":"SUM(F126)","v":0}]
[]
[]
["5. Расчет (обоснование) прочих расхоов (кроме расходов на закупку товаров, работ, услуг)"]
[]
["      Код вида доходов ___853___________________________________________"]
[null,"Источник финансового обеспечения___________________________________"]
[]
["№ п/п","Наименование показателя","Размер одной выплаты, руб.",null,"Количество выплат в год","Общая сумма выплат, руб. (гр.3*гр.4)"]
[]
[]
[1,2,3,null,4,5]
[1,"пени",null,null,null,{"$f":"'Таблица 2.2'!H58","v":10000}]
["Итого:",null,"х",null,"х",{"$f":"SUM(F139)","v":10000}]
[]
[]
["6. Расчет (обоснование) расходов на закупку товаров, работ, услуг"]
[]
["      Код вида доходов ___244___________________________________________"]
[null,"Источник финансового обеспечения___________________________________"]
[]
[null,"6.1 Расчет (обоснование) расходов на оплату услуг связи"]
["№ п/п","Наименование расходов","Количество номеров",null,"Количество платежей в год","Стоимость за единицу, руб.","Сумма, руб. (гр.3*гр.4*гр.5)"]
[]
[]
[1,2,3,null,4,5,6]
[1,"услуги связи",null,null,null,null,{"$f":"'Таблица 2.2'!H33","v":10000}]
["Итого:",null,"х",null,"х","х",{"$f":"SUM(G153)","v":10000}]
[]
[null,"6.2 Расчет (обоснование) расходов на оплату транспортных услуг"]
["№ п/п","Наименование расходов","Количество услуг перевозки",null,"Цена услуги перевозки, руб.","Сумма, руб. (гр.3*гр.4)"]
[]
[]
[1,2,3,null,4,5]
[null,null,null,null,null,{"$f":"SUM(C161*E161)","v":0}]
["Итого:",null,{"$f":"SUM(C161)","v":0},null,{"$f":"SUM(E161)","v":0},{"$f":"SUM(F161)","v":0}]
[]
[null,"6.3 Расчет (обоснование) расходов на оплату коммунальных услуг"]
["№ п/п","Наименование показателя","Размер потребления ресурсов",null,"Тариф (с учетом НДС), руб.","Индексация, %","Сумма, руб. (гр.3*гр.4*гр.5)"]
[]
[]
[1,2,3,null,4,5,6]
[1,"Ком. услуги",null,null,null,null,{"$f":"'Таблица 2.2'!H35+'Таблица 2.2'!H36","v":254125}]
[2]
[3]
["Итого:",null,"х",null,"х","х",{"$f":"G169+G170+G171","v":254125}]
[]
[null,"6.4 Расчет (обоснование) расходов на оплату аренды имущества"]
["№ п/п","Наименование показателя","Количество ",null,"Ставка арендной платы","Стоимость с учетом НДС, руб."]
[]
[]
[1,2,3,null,4,5]
[null,null,null,null,null,{"$f":"SUM(C179*E179)","v":0}]
["Итого:",null,"х",null,"х","х"]
[]
[null,"6.5 Расчет (обоснование) расходов на оплату работ, услуг по содержанию имущества"]
["№ п/п","Наименование расходов","Объект",null,"Количество работ (услуг)","Стоимость работ (услуг), руб."]
[]
[]
[1,2,3,null,4,5]
[1,"вывоз мусора"]
[2,"работы, услуги по содержанию имущества",null,null,null,44402.080000000002]
[3,"обслуживание пожарной сигнализации",null,null,null,{"$f":"16597.92","v":16597.919999999998}]
["Итого:",null,"х",null,"х",{"$f":"SUM(F187:G189)","v":61000}]
[]
[null,"6.6 Расчет (обоснование) расходов на оплату прочих работ, услуг"]
["№ п/п","Наименование расходов","Количество договоров",null,"Стоимость услуги, руб."]
[]
[]
[1,2,3,null,4]
[1,"Комплекс прикладных научных исследований по объекту"]
[2,"разработка сметной документации"]
[3,"предпроверочная подготовка преобразователя расхода электромагнитного счетчика воды"]
[4,"измерение сопротивления изоляции кабельных линий"]
[5,"тепловычеслители"]
[6,"термометры сопротивления "]
[7,"оплата прочих работ,услуг",null,null,{"$f":"'Таблица 2.2'!H39","v":13600}]
["Итого:",null,"х",null,{"$f":"E197+E198+E199+E200+E201+E202+E203","v":13600}]
[]
[null,"6.7 Расчет (обоснование) расходов на приобретение основных средств, материальных запасов"]
["№ п/п","Наименование расходов","Количество",null,"Средняя стоимость, руб.","Сумма, руб. (гр.2*гр.3)"]
[]
[]
[1,2,3,null,4,5]
[1,"учебные расходы",null,null,null,{"$f":"'Таблица 2.2'!H42","v":21000}]
[2,"питание",null,null,null,{"$f":"'Таблица 2.2'!H44+'Таблица 2.2'!H47","v":74960}]
[3,"прочие расходы",null,null,null,{"$f":"'Таблица 2.2'!H43","v":3500}]
[4,"медикаменты",null,null,null,{"$f":"'Таблица 2.2'!H45+'Таблица 2.2'!H48","v":930}]
[5,"мягкий инвентарь",null,null,null,{"$f":"'Таблица 2.2'!H46+'Таблица 2.2'!H49","v":8200}]
[6,"приобретение основных средств",null,null,null,{"$f":"'Таблица 2.2'!H41","v":5000}]
[7]
[8]
["Итого:",null,null,null,"х",{"$f":"SUM(F211:G217)","v":113590}]

{"sheet":"расчеты иные субсидии","index":9,"n_rows":199,"n_cols":11,"rows_kept":199,"cut":false,"hidden":false,"merged":[[196,2,196,3],[196,5,196,6],[198,0,198,1],[198,2,198,3],[198,5,198,6],[192,0,194,0],[192,1,194,1],[192,2,194,3],[192,4,194,4],[192,5,194,6],[195,2,195,3],[195,5,195,6],[197,2,197,3],[197,5,197,6],[188,2,188,3],[188,4,188,5],[189,0,189,1],[189,2,189,3],[189,4,189,5],[191,1,191,6],[183,1,183,6],[184,0,186,0],[184,1,186,1],[184,2,186,3],[184,4,186,5],[187,2,187,3],[187,4,187,5],[179,2,179,3],[179,5,179,6],[180,2,180,3],[180,5,180,6],[181,0,181,1],[181,2,181,3],[181,5,181,6],[175,1,175,6],[176,0,178,0],[176,1,178,1],[176,2,178,3],[176,4,178,4],[176,5,178,6],[171,2,171,3],[171,5,171,6],[172,2,172,3],[172,5,172,6],[173,0,173,1],[173,2,173,3],[173,5,173,6],[167,1,167,5],[168,0,170,0],[168,1,170,1],[168,2,170,3],[168,4,170,4],[168,5,170,6],[160,6,162,7],[163,2,163,3],[163,6,163,7],[164,2,164,3],[164,6,164,7],[165,0,165,1],[165,2,165,3],[165,6,165,7],[159,1,159,5],[160,0,162,0],[160,1,162,1],[160,2,162,3],[160,4,162,4],[160,5,162,5],[155,2,155,3],[155,5,155,6],[156,2,156,3],[156,5,156,6],[157,0,157,1],[157,2,157,3],[157,5,157,6],[151,1,151,5],[152,0,154,0],[152,1,154,1],[152,2,154,3],[152,4,154,4],[152,5,154,6],[144,6,146,7],[147,2,147,3],[147,6,147,7],[148,2,148,3],[148,6,148,7],[149,0,149,1],[149,2,149,3],[149,6,149,7],[138,0,138,5],[140,0,140,5],[141,1,141,5],[143,1,143,5],[144,0,146,0],[144,1,146,1],[144,2,146,3],[144,4,146,4],[144,5,146,5],[133,2,133,3],[133,5,133,6],[134,2,134,3],[134,5,134,6],[135,0,135,1],[135,2,135,3],[135,5,135,6],[125,0,125,5],[127,0,127,5],[128,1,128,5],[130,0,132,0],[130,1,132,1],[130,2,132,3],[130,4,132,4],[130,5,132,6],[120,2,120,3],[120,5,120,6],[121,2,121,3],[121,5,121,6],[122,0,122,1],[122,2,122,3],[122,5,122,6],[112,0,112,5],[114,0,114,5],[115,1,115,5],[117,0,119,0],[117,1,119,1],[117,2,119,3],[117,4,119,4],[117,5,119,6],[107,2,107,3],[107,5,107,6],[108,2,108,3],[108,5,108,6],[109,0,109,1],[109,2,109,3],[109,5,109,6],[99,1,99,5],[101,0,101,5],[102,1,102,5],[104,0,106,0],[104,1,106,1],[104,2,106,3],[104,4,106,4],[104,5,106,6],[87,2,87,3],[88,2,88,3],[89,0,89,1],[89,2,89,3],[92,0,92,2],[93,0,96,5],[79,1,79,5],[81,0,81,5],[82,1,82,5],[84,0,86,0],[84,1,86,1],[84,2,86,3],[84,4,86,4],[84,5,86,5],[73,0,74,0],[73,1,74,3],[73,4,74,5],[73,6,74,6],[75,0,76,0],[75,1,76,3],[75,4,76,5],[75,6,76,6],[69,0,70,0],[69,1,70,3],[69,4,70,5],[69,6,70,6],[71,0,72,0],[71,1,72,3],[71,4,72,5],[71,6,72,6],[65,0,66,0],[65,1,66,3],[65,4,66,5],[65,6,66,6],[67,0,68,0],[67,1,68,3],[67,4,68,5],[67,6,68,6],[59,0,60,0],[59,1,60,3],[59,4,60,5],[59,6,60,6],[61,0,64,0],[61,1,62,3],[61,4,64,5],[61,6,64,6],[63,1,64,3],[55,0,56,0],[55,1,56,3],[55,4,56,5],[55,6,56,6],[57,0,58,0],[57,1,58,3],[57,4,58,5],[57,6,58,6],[49,0,50,0],[49,1,50,3],[49,4,50,5],[49,6,50,6],[51,0,54,0],[51,1,52,3],[51,4,54,5],[51,6,54,6],[53,1,54,3],[45,0,47,0],[45,1,47,3],[45,4,47,5],[45,6,47,6],[48,1,48,3],[48,4,48,5],[35,6,37,6],[38,2,38,3],[39,2,39,3],[40,0,40,1],[40,2,40,3],[43,1,43,6],[28,2,28,3],[29,2,29,3],[30,0,30,1],[30,2,30,3],[33,2,33,7],[35,0,37,0],[35,1,37,1],[35,2,37,3],[35,4,37,4],[35,5,37,5],[23,2,23,7],[25,0,27,0],[25,1,27,1],[25,2,27,3],[25,4,27,4],[25,5,27,5],[25,6,27,6],[15,8,17,8],[15,9,17,9],[15,10,17,10],[16,3,17,3],[16,4,16,6],[20,0,20,1],[0,2,3,8],[5,3,5,6],[8,3,8,6],[10,2,10,7],[13,0,13,6],[15,0,17,0],[15,1,17,1],[15,2,17,2],[15,3,15,6],[15,7,17,7]]}
[null,null,"Расчеты (обоснования) к плану финансово-хозяйственной деятельности муниципального бюдженого учреждения по состоянию на 01.01.2020г."]
[]
[]
[]
[]
[null,null,null,"1. Расчеты (обоснования) выплат персоналу (строка 210)"]
[]
[]
[null,null,null,"Код вида расходов___111, 112, 119_____________________"]
[]
[null,null,"Источник финансового обеспечения____Субсидии на иные цели__________________________________"]
[]
[]
["1.1 Расчеты (обоснования) расходов на оплату труда"]
[]
["№ п/п","Должность, группа должностей","Установленная численность, единиц","Среднемесячный размер оплаты труда на одного работника, руб.",null,null,null,"Ежемесячная надбавка к должностному окладу, %","Районный коэффициент","4% и доведение до  МРОТ","Фонд оплаты труда в год, руб. (гр.3*гр.4*(1+гр.8/100)+гр.10*гр.9)*12"]
[null,null,null,"всего","в том числе:"]
[null,null,null,null,"по должностному окладу","по выплатам компенсационного характера","по выплатам стимулирующего характера"]
[1,2,3,4,5,6,7,8,9,10,11]
[4,"обслуживающий персонал",6.15,{"$f":"E20+F20+G20","v":0},null,null,null,0,1.1499999999999999,3383.6,249709.68]
["Итого:",null,{"$f":"SUM(C20:C20)","v":6.15},null,"х","х","х","х","х","х",{"$f":"SUM(K20)","v":249709.68}]
[]
[]
[null,null,"1.2 Расчеты (обоснования) выплат персоналу при направлении в служебные командировки"]
[]
["№ п/п","Наименование расходов","Средний размер выплаты на одного работника в день, руб.",null,"Количество работников, чел.","Количество дней","Сумма, руб. (гр.3*гр.4*гр.5)"]
[]
[]
[1,2,3,null,4,5,6]
[null,null,null,null,null,null,{"$f":"C30*D30*E30","v":0}]
["Итого:",null,"х",null,"х","х",{"$f":"SUM(G30)","v":0}]
[]
[]
[null,null,"1.3 Расчеты (обоснования) выплат персоналу по уходу за ребенком"]
[]
["№ п/п","Наименование расходов","Численность работников, получающих пособие",null,"Количество выплат в год на одного работника","Размер выплаты (пособия) в месяц, руб.","Сумма, руб. (гр.3*гр.4*гр.5)"]
[]
[]
[1,2,3,null,4,5,6]
[null,null,null,null,null,null,{"$f":"C40*D40*E40","v":0}]
["Итого:",null,"х",null,"х","х",{"$f":"SUM(G40)","v":0}]
[]
[]
[null,"1.4 Расчеты (обоснования) страховых взносов на обязательное страхование в Пенсионный фонд Российской Федерации, в Фондсоциального страхования Российской Федерации, в Федеральный фонд обязательного медицинского страхования"]
[]
["№ п/п","Наименование государственного внебюджетного фонда",null,null,"Размер базы для начисления страховых взносов, руб.",null,"Сумма взноса, руб."]
[]
[]
[1,2,null,null,3,null,4]
[1,"Страховые взносы в Пенсионный фонд Российской Федерации, всего",null,null,"х",null,{"$f":"G52","v":54936.13}]
[]
["1.1","в том числе:",null,null,null,null,54936.13]
[]
[null,"по ставке 22,0%"]
[]
["1.2","по ставке 10,0%",null,null,null,null,0]
[]
["1.3","с применением пониженных тарифов взносов в Пенсионный фонд Российской Федерации для отдельных категорий плательщиков",null,null,null,null,0]
[]
["2","Страховые взносы в Фонд социального страхования Российской Федерации, всего",null,null,"х",null,{"$f":"G62+G70+G74","v":20476.190000000002}]
[]
["2.1","в том числе:",null,null,null,null,7241.58]
[]
[null,"обязательное социальное страхование на случай временной нерудоспособности и в связи с материнством по ставке 2,9%"]
[]
["2.2","с применением ставки взносов в Фонд социального страхования Российской федерации по ставке 0,0%",null,null,"х",null,0]
[]
["1",2,null,null,3,null,4]
[]
["2.4","обязательное социальное страхование от несчастных случаев на производстве и профессиональных заболваний по ставке 0,2%*",null,null,null,null,499.42]
[]
["2.5","обязательное социальное страхование от несчастных случаев на производстве и профессиональных заболваний по ставке 0,__%*"]
[]
["3","Страховые взносы в Федеральный фонд обязательного медицинского страхования, всего (по ставке 5,1%)",null,null,null,null,12735.19]
[]
[null,"Итого:",null,null,"х",null,{"$f":"G60+G50","v":75412.320000000007}]
[]
[]
[]
[null,"2. Расчеты (обоснования) расходов на социальные и иные выплаты населению"]
[]
["    Код вида доходов______________________________________________"]
[null,"Источник финансового обеспечения___________________________________"]
[]
["№ п/п","Наименование расходов","Размер одной выплаты, руб.",null,"Количество выплат в год","Сумма, руб. (гр.3*гр.4)"]
[]
[]
[1,2,3,null,4,5]
[null,null,null,null,null,{"$f":"C89*E89","v":0}]
["Итого:",null,"х",null,"х",{"$f":"SUM(F89)","v":0}]
[]
[]
["__________________________________"]
["* Указываются страховые тарифы, дифференцированные по классам профессионального риска, установленные Федеральным законом от 22 декабря 2005 г. № 179-ФЗ \"О страховых тарифах на обязательное социальное страхование от несчастных случаев на производстве и прфессиональных заболеваний на 2006 год\"."]
[]
[]
[]
[]
[]
[null,"3. Расчеты (обоснования) расходов на уплату налогов, сборов и иных платежей"]
[]
["                 Код вида доходов 851,852______________________________________________"]
[null,"Источник финансового обеспечения___________________________________"]
[]
["№ п/п","Наименование расходов","Налоговая база, руб.",null,"Ставка налога, %","Сумма исчисленного налога, подлежащего уплате, руб. (гр.3*гр.4/100)"]
[]
[]
[1,2,3,null,4,5]
[1,"налог на имущество",null,null,null,{"$f":"'Таблица 2.2'!D102","v":0}]
["Итого:",null,null,null,"х",{"$f":"SUM(F109)","v":0}]
[]
[]
["4. Расчеты (обоснования) расходов на безвозмездные перечисления организациям"]
[]
["      Код вида доходов ______________________________________________"]
[null,"Источник финансового обеспечения___________________________________"]
[]
["№ п/п","Наименование показателя","Размер одной выплаты, руб.",null,"Количество выплат в год","Общая сумма выплат, руб. (гр.3*гр.4)"]
[]
[]
[1,2,3,null,4,5]
[null,null,null,null,null,{"$f":"C122*E122","v":0}]
["Итого:",null,"х",null,"х",{"$f":"SUM(F122)","v":0}]
[]
[]
["5. Расчет (обоснование) прочих расхоов (кроме расходов на закупку товаров, работ, услуг)"]
[]
["      Код вида доходов ___853___________________________________________"]
[null,"Источник финансового обеспечения___________________________________"]
[]
["№ п/п","Наименование показателя","Размер одной выплаты, руб.",null,"Количество выплат в год","Общая сумма выплат, руб. (гр.3*гр.4)"]
[]
[]
[1,2,3,null,4,5]
[null,null,null,null,null,{"$f":"'Таблица 2.2'!D103","v":0}]
["Итого:",null,"х",null,"х",{"$f":"SUM(F135)","v":0}]
[]
[]
["6. Расчет (обоснование) расходов на закупку товаров, работ, услуг"]
[]
["      Код вида доходов ___244___________________________________________"]
[null,"Источник финансового обеспечения___________________________________"]
[]
[null,"6.1 Расчет (обоснование) расходов на оплату услуг связи"]
["№ п/п","Наименование расходов","Количество номеров",null,"Количество платежей в год","Стоимость за единицу, руб.","Сумма, руб. (гр.3*гр.4*гр.5)"]
[]
[]
[1,2,3,null,4,5,6]
[1,"связь",null,null,null,null,{"$f":"'Таблица 2.2'!D109","v":0}]
["Итого:",null,"х",null,"х","х",{"$f":"SUM(G149)","v":0}]
[]
[null,"6.2 Расчет (обоснование) расходов на оплату транспортных услуг"]
["№ п/п","Наименование расходов","Количество услуг перевозки",null,"Цена услуги перевозки, руб.","Сумма, руб. (гр.3*гр.4)"]
[]
[]
[1,2,3,null,4,5]
[null,null,null,null,null,{"$f":"SUM(C157*E157)","v":0}]
["Итого:",null,{"$f":"SUM(C157)","v":0},null,{"$f":"SUM(E157)","v":0},{"$f":"SUM(F157)","v":0}]
[]
[null,"6.3 Расчет (обоснование) расходов на оплату коммунальных услуг"]
["№ п/п","Наименование показателя","Размер потребления ресурсов",null,"Тариф (с учетом НДС), руб.","Индексация, %","Сумма, руб. (гр.3*гр.4*гр.5)"]
[]
[]
[1,2,3,null,4,5,6]
[1,"тепло",null,null,null,null,{"$f":"'Таблица 2.2'!D110","v":0}]
["Итого:",null,"х",null,"х","х",{"$f":"SUM(G165)","v":0}]
[]
[null,"6.4 Расчет (обоснование) расходов на оплату аренды имущества"]
["№ п/п","Наименование показателя","Количество ",null,"Ставка арендной платы","Стоимость с учетом НДС, руб."]
[]
[]
[1,2,3,null,4,5]
[null,null,null,null,null,{"$f":"SUM(C173*E173)","v":0}]
["Итого:",null,"х",null,"х","х"]
[]
[null,"6.5 Расчет (обоснование) расходов на оплату работ, услуг по содержанию имщества"]
["№ п/п","Наименование расходов","Объект",null,"Количество работ (услуг)","Стоимость работ (услуг), руб."]
[]
[]
[1,2,3,null,4,5]
[null,"работы, услуги по содержанию имущества",null,null,null,{"$f":"'Таблица 2.2'!D104","v":0}]
["Итого:",null,"х",null,"х",{"$f":"SUM(F181)","v":0}]
[]
[null,"6.6 Расчет (обоснование) расходов на оплату прочих работ, услуг"]
["№ п/п","Наименование расходов","Количество договоров",null,"Стоимость услуги, руб."]
[]
[]
[1,2,3,null,4]
[1,"Оплата за выполненные мероприятия, направленные на энергосбережение и повышение энергетической эффективности использования энергетических ресурсов системы теплоснабжения МБДОУ детский сад \"Улыбка\" с. Александров-Гай",null,null,{"$f":"'Таблица 2.2'!H119","v":1650000}]
["Итого:",null,"х",null,{"$f":"SUM(E189)","v":1650000}]
[]
[null,"6.7 Расчет (обоснование) расходов на приобретение основных средств, материальных запасов"]
["№ п/п","Наименование расходов","Количество",null,"Средняя стоимость, руб.","Сумма, руб. (гр.2*гр.3)"]
[]
[]
[1,2,3,null,4,5]
[1,"питание",null,null,null,{"$f":"'Таблица 2.2'!D115","v":0}]
[2,"приобретение бойлера"]
["Итого:",null,null,null,"х",{"$f":"F197+F198","v":0}]

{"sheet":"расчеты предпринималка","index":10,"n_rows":201,"n_cols":10,"rows_kept":201,"cut":false,"hidden":false,"merged":[[197,2,197,3],[197,5,197,6],[200,0,200,1],[200,2,200,3],[200,5,200,6],[192,0,194,0],[192,1,194,1],[192,2,194,3],[192,4,194,4],[192,5,194,6],[195,2,195,3],[195,5,195,6],[196,2,196,3],[196,5,196,6],[198,2,198,3],[198,5,198,6],[199,2,199,3],[199,5,199,6],[188,2,188,3],[188,4,188,5],[189,0,189,1],[189,2,189,3],[189,4,189,5],[191,1,191,6],[183,1,183,6],[184,0,186,0],[184,1,186,1],[184,2,186,3],[184,4,186,5],[187,2,187,3],[187,4,187,5],[179,2,179,3],[179,5,179,6],[180,2,180,3],[180,5,180,6],[181,0,181,1],[181,2,181,3],[181,5,181,6],[175,1,175,6],[176,0,178,0],[176,1,178,1],[176,2,178,3],[176,4,178,4],[176,5,178,6],[171,2,171,3],[171,5,171,6],[172,2,172,3],[172,5,172,6],[173,0,173,1],[173,2,173,3],[173,5,173,6],[167,1,167,5],[168,0,170,0],[168,1,170,1],[168,2,170,3],[168,4,170,4],[168,5,170,6],[160,6,162,7],[163,2,163,3],[163,6,163,7],[164,2,164,3],[164,6,164,7],[165,0,165,1],[165,2,165,3],[165,6,165,7],[159,1,159,5],[160,0,162,0],[160,1,162,1],[160,2,162,3],[160,4,162,4],[160,5,162,5],[155,2,155,3],[155,5,155,6],[156,2,156,3],[156,5,156,6],[157,0,157,1],[157,2,157,3],[157,5,157,6],[151,1,151,5],[152,0,154,0],[152,1,154,1],[152,2,154,3],[152,4,154,4],[152,5,154,6],[144,6,146,7],[147,2,147,3],[147,6,147,7],[148,2,148,3],[148,6,148,7],[149,0,149,1],[149,2,149,3],[149,6,149,7],[138,0,138,5],[140,0,140,5],[141,1,141,5],[143,1,143,5],[144,0,146,0],[144,1,146,1],[144,2,146,3],[144,4,146,4],[144,5,146,5],[133,2,133,3],[133,5,133,6],[134,2,134,3],[134,5,134,6],[135,0,135,1],[135,2,135,3],[135,5,135,6],[125,0,125,5],[127,0,127,5],[128,1,128,5],[130,0,132,0],[130,1,132,1],[130,2,132,3],[130,4,132,4],[130,5,132,6],[120,2,120,3],[120,5,120,6],[121,2,121,3],[121,5,121,6],[122,0,122,1],[122,2,122,3],[122,5,122,6],[112,0,112,5],[114,0,114,5],[115,1,115,5],[117,0,119,0],[117,1,119,1],[117,2,119,3],[117,4,119,4],[117,5,119,6],[107,2,107,3],[107,5,107,6],[108,2,108,3],[108,5,108,6],[109,0,109,1],[109,2,109,3],[109,5,109,6],[99,1,99,5],[101,0,101,5],[102,1,102,5],[104,0,106,0],[104,1,106,1],[104,2,106,3],[104,4,106,4],[104,5,106,6],[87,2,87,3],[88,2,88,3],[89,0,89,1],[89,2,89,3],[92,0,92,2],[93,0,96,5],[79,1,79,5],[81,0,81,5],[82,1,82,5],[84,0,86,0],[84,1,86,1],[84,2,86,3],[84,4,86,4],[84,5,86,5],[73,0,74,0],[73,1,74,3],[73,4,74,5],[73,6,74,6],[75,0,76,0],[75,1,76,3],[75,4,76,5],[75,6,76,6],[69,0,70,0],[69,1,70,3],[69,4,70,5],[69,6,70,6],[71,0,72,0],[71,1,72,3],[71,4,72,5],[71,6,72,6],[65,0,66,0],[65,1,66,3],[65,4,66,5],[65,6,66,6],[67,0,68,0],[67,1,68,3],[67,4,68,5],[67,6,68,6],[59,0,60,0],[59,1,60,3],[59,4,60,5],[59,6,60,6],[61,0,64,0],[61,1,62,3],[61,4,64,5],[61,6,64,6],[63,1,64,3],[55,0,56,0],[55,1,56,3],[55,4,56,5],[55,6,56,6],[57,0,58,0],[57,1,58,3],[57,4,58,5],[57,6,58,6],[49,0,50,0],[49,1,50,3],[49,4,50,5],[49,6,50,6],[51,0,54,0],[51,1,52,3],[51,4,54,5],[51,6,54,6],[53,1,54,3],[45,0,47,0],[45,1,47,3],[45,4,47,5],[45,6,47,6],[48,1,48,3],[48,4,48,5],[35,6,37,6],[38,2,38,3],[39,2,39,3],[40,0,40,1],[40,2,40,3],[43,1,43,6],[28,2,28,3],[29,2,29,3],[30,0,30,1],[30,2,30,3],[33,2,33,7],[35,0,37,0],[35,1,37,1],[35,2,37,3],[35,4,37,4],[35,5,37,5],[25,0,27,0],[25,1,27,1],[25,2,27,3],[25,4,27,4],[25,5,27,5],[25,6,27,6],[15,8,17,8],[15,9,17,9],[16,3,17,3],[16,4,16,6],[20,0,20,1],[23,2,23,7],[0,2,3,8],[5,3,5,6],[8,3,8,6],[10,2,10,9],[13,0,13,6],[15,0,17,0],[15,1,17,1],[15,2,17,2],[15,3,15,6],[15,7,17,7]]}
[null,null,"Расчеты (обоснования) к плану финансово-хозяйственной деятельности муниципального бюдженого учреждения по состоянию на 01.01.2020г."]
[]
[]
[]
[]
[null,null,null,"1. Расчеты (обоснования) выплат персоналу (строка 210)"]
[]
[]
[null,null,null,"Код вида расходов____111, 112, 119____________________"]
[]
[null,null,"Источник финансового обеспечения____Поступления от иной приносящей доход деятельности__________________________________"]
[]
[]
["1.1 Расчеты (обоснования) расходов на оплату труда"]
[]
["№ п/п","Должность, группа должностей","Установленная численность, единиц","Среднемесячный размер оплаты труда на одного работника, руб.",null,null,null,"Ежемесячная надбавка к должностному окладу, %","Районный коэффициент","Фонд оплаты труда в год, руб. (гр.3*гр.4*(1+гр.8/100)*гр.9*12)"]
[null,null,null,"всего","в том числе:"]
[null,null,null,null,"по должностному окладу","по выплатам компенсационного характера","по выплатам стимулирующего характера"]
[1,2,3,4,5,6,7,8,9,10]
[null,null,null,0,0,0,0,0,0,{"$f":"C20*D20*(1+H20/100)*I20*12","v":0}]
["Итого:",null,"х",null,"х","х","х","х","х",{"$f":"SUM(J20)","v":0}]
[]
[]
[null,null,"1.2 Расчеты (обоснования) выплат персоналу при направлении в служебные командировки"]
[]
["№ п/п","Наименование расходов","Средний размер выплаты на одного работника в день, руб.",null,"Количество работников, чел.","Количество дней","Сумма, руб. (гр.3*гр.4*гр.5)"]
[]
[]
[1,2,3,null,4,5,6]
[null,null,null,null,null,null,{"$f":"C30*D30*E30","v":0}]
["Итого:",null,"х",null,"х","х",{"$f":"SUM(G30)","v":0}]
[]
[]
[null,null,"1.3 Расчеты (обоснования) выплат персоналу по уходу за ребенком"]
[]
["№ п/п","Наименование расходов","Численность работников, получающих пособие",null,"Количество выплат в год на одного работника","Размер выплаты (пособия) в месяц, руб.","Сумма, руб. (гр.3*гр.4*гр.5)"]
[]
[]
[1,2,3,null,4,5,6]
[null,null,null,null,null,null,{"$f":"C40*D40*E40","v":0}]
["Итого:",null,"х",null,"х","х",{"$f":"SUM(G40)","v":0}]
[]
[]
[null,"1.4 Расчеты (обоснования) страховых взносов на обязательное страхование в Пенсионный фонд Российской Федерации, в Фондсоциального страхования Российской Федерации, в Федеральный фонд обязательного медицинского страхования"]
[]
["№ п/п","Наименование государственного внебюджетного фонда",null,null,"Размер базы для начисления страховых взносов, руб.",null,"Сумма взноса, руб."]
[]
[]
[1,2,null,null,3,null,4]
[1,"Страховые взносы в Пенсионный фонд Российской Федерации, всего",null,null,"х"]
[]
["1.1","в том числе:"]
[]
[null,"по ставке 22,0%"]
[]
["1.2","по ставке 10,0%",null,null,null,null,0]
[]
["1.3","с применением пониженных тарифов взносов в Пенсионный фонд Российской Федерации для отдельных категорий плательщиков",null,null,null,null,0]
[]
["2","Страховые взносы в Фонд социального страхования Российской Федерации, всего",null,null,"х",null,0]
[]
["2.1","в том числе:"]
[]
[null,"обязательное социальное страхование на случай временной нерудоспособности и в связи с материнством по ставке 2,9%"]
[]
["2.2","с применением ставки взносов в Фонд социального страхования Российской федерации по ставке 0,0%",null,null,"х",null,0]
[]
["1",2,null,null,3,null,4]
[]
["2.4","обязательное социальное страхование от несчастных случаев на производстве и профессиональных заболваний по ставке 0,2%*"]
[]
["2.5","обязательное социальное страхование от несчастных случаев на производстве и профессиональных заболваний по ставке 0,__%*"]
[]
["3","Страховые взносы в Федеральный фонд обязательного медицинского страхования, всего (по ставке 5,1%)"]
[]
[null,"Итого:",null,null,"х"]
[]
[]
[]
[null,"2. Расчеты (обоснования) расходов на социальные и иные выплаты населению"]
[]
["    Код вида доходов______________________________________________"]
[null,"Источник финансового обеспечения___________________________________"]
[]
["№ п/п","Наименование расходов","Размер одной выплаты, руб.",null,"Количество выплат в год","Сумма, руб. (гр.3*гр.4)"]
[]
[]
[1,2,3,null,4,5]
[null,null,null,null,null,{"$f":"C89*E89","v":0}]
["Итого:",null,"х",null,"х",{"$f":"SUM(F89)","v":0}]
[]
[]
["__________________________________"]
["* Указываются страховые тарифы, дифференцированные по классам профессионального риска, установленные Федеральным законом от 22 декабря 2005 г. № 179-ФЗ \"О страховых тарифах на обязательное социальное страхование от несчастных случаев на производстве и прфессиональных заболеваний на 2006 год\"."]
[]
[]
[]
[]
[]
[null,"3. Расчеты (обоснования) расходов на уплату налогов, сборов и иных платежей"]
[]
["                 Код вида доходов 851,852______________________________________________"]
[null,"Источник финансового обеспечения___________________________________"]
[]
["№ п/п","Наименование расходов","Налоговая база, руб.",null,"Ставка налога, %","Сумма исчисленного налога, подлежащего уплате, руб. (гр.3*гр.4/100)"]
[]
[]
[1,2,3,null,4,5]
[null,null,null,null,null,{"$f":"C109*E109","v":0}]
["Итого:",null,null,null,"х",{"$f":"SUM(F109)","v":0}]
[]
[]
["4. Расчеты (обоснования) расходов на безвозмездные перечисления организациям"]
[]
["      Код вида доходов ______________________________________________"]
[null,"Источник финансового обеспечения___________________________________"]
[]
["№ п/п","Наименование показателя","Размер одной выплаты, руб.",null,"Количество выплат в год","Общая сумма выплат, руб. (гр.3*гр.4)"]
[]
[]
[1,2,3,null,4,5]
[null,null,null,null,null,{"$f":"C122*E122","v":0}]
["Итого:",null,"х",null,"х",{"$f":"SUM(F122)","v":0}]
[]
[]
["5. Расчет (обоснование) прочих расхоов (кроме расходов на закупку товаров, работ, услуг)"]
[]
["      Код вида доходов ___853___________________________________________"]
[null,"Источник финансового обеспечения___________________________________"]
[]
["№ п/п","Наименование показателя","Размер одной выплаты, руб.",null,"Количество выплат в год","Общая сумма выплат, руб. (гр.3*гр.4)"]
[]
[]
[1,2,3,null,4,5]
[null,null,null,null,null,{"$f":"C135*E135","v":0}]
["Итого:",null,"х",null,"х",{"$f":"SUM(F135)","v":0}]
[]
[]
["6. Расчет (обоснование) расходов на закупку товаров, работ, услуг"]
[]
["      Код вида доходов ___244___________________________________________"]
[null,"Источник финансового обеспечения___________________________________"]
[]
[null,"6.1 Расчет (обоснование) расходов на оплату услуг связи"]
["№ п/п","Наименование расходов","Количество номеров",null,"Количество платежей в год","Стоимость за единицу, руб.","Сумма, руб. (гр.3*гр.4*гр.5)"]
[]
[]
[1,2,3,null,4,5,6]
[null,null,null,null,null,null,{"$f":"C149*E149*F149","v":0}]
["Итого:",null,"х",null,"х","х",{"$f":"SUM(G149)","v":0}]
[]
[null,"6.2 Расчет (обоснование) расходов на оплату транспортных услуг"]
["№ п/п","Наименование расходов","Количество услуг перевозки",null,"Цена услуги перевозки, руб.","Сумма, руб. (гр.3*гр.4)"]
[]
[]
[1,2,3,null,4,5]
[null,null,null,null,null,{"$f":"SUM(C157*E157)","v":0}]
["Итого:",null,{"$f":"SUM(C157)","v":0},null,{"$f":"SUM(E157)","v":0},{"$f":"SUM(F157)","v":0}]
[]
[null,"6.3 Расчет (обоснование) расходов на оплату коммунальных услуг"]
["№ п/п","Наименование показателя","Размер потребления ресурсов",null,"Тариф (с учетом НДС), руб.","Индексация, %","Сумма, руб. (гр.3*гр.4*гр.5)"]
[]
[]
[1,2,3,null,4,5,6]
[null,null,null,null,null,null,{"$f":"C165*E165*F165","v":0}]
["Итого:",null,"х",null,"х","х",{"$f":"SUM(G165)","v":0}]
[]
[null,"6.4 Расчет (обоснование) расходов на оплату аренды имущества"]
["№ п/п","Наименование показателя","Количество ",null,"Ставка арендной платы","Стоимость с учетом НДС, руб."]
[]
[]
[1,2,3,null,4,5]
[null,null,null,null,null,{"$f":"SUM(C173*E173)","v":0}]
["Итого:",null,"х",null,"х","х"]
[]
[null,"6.5 Расчет (обоснование) расходов на оплату работ, услуг по содержанию имщества"]
["№ п/п","Наименование расходов","Объект",null,"Количество работ (услуг)","Стоимость работ (услуг), руб."]
[]
[]
[1,2,3,null,4,5]
[null,null,null,null,null,{"$f":"SUM(C181*E181)","v":0}]
["Итого:",null,"х",null,"х"]
[]
[null,"6.6 Расчет (обоснование) расходов на оплату прочих работ, услуг"]
["№ п/п","Наименование расходов","Количество договоров",null,"Стоимость услуги, руб."]
[]
[]
[1,2,3,null,4]
[]
["Итого:",null,"х"]
[]
[null,"6.7 Расчет (обоснование) расходов на приобретение основных средств, материальных запасов"]
["№ п/п","Наименование расходов","Количество",null,"Средняя стоимость, руб.","Сумма, руб. (гр.2*гр.3)"]
[]
[]
[1,2,3,null,4,5]
[1,"медикаменты",null,null,null,{"$f":"'Таблица 2.2'!H79","v":0}]
[2,"питание",null,null,null,{"$f":"'Таблица 2.2'!H80","v":327925}]
[3,"строй.материалы",null,null,null,{"$f":"'Таблица 2.2'!H81","v":0}]
[4,"прочие расходы",null,null,null,{"$f":"'Таблица 2.2'!H82","v":0}]
["Итого:",null,null,null,"х",{"$f":"SUM(F197:G200)","v":327925}]